BEGIN:VCALENDAR
VERSION:2.0
PRODID:-//Bistro Manly - ECPv5.3.2.1//NONSGML v1.0//EN
CALSCALE:GREGORIAN
METHOD:PUBLISH
X-WR-CALNAME:Bistro Manly
X-ORIGINAL-URL:https://bistromanly.com.au
X-WR-CALDESC:Events for Bistro Manly
BEGIN:VTIMEZONE
TZID:Australia/Sydney
BEGIN:STANDARD
TZOFFSETFROM:+1100
TZOFFSETTO:+1000
TZNAME:AEST
DTSTART:20210403T160000
END:STANDARD
BEGIN:DAYLIGHT
TZOFFSETFROM:+1000
TZOFFSETTO:+1100
TZNAME:AEDT
DTSTART:20211002T160000
END:DAYLIGHT
END:VTIMEZONE
BEGIN:VEVENT
DTSTART;TZID=Australia/Sydney:20210126T123000
DTEND;TZID=Australia/Sydney:20210126T150000
DTSTAMP:20210227T035506
CREATED:20191120T011633Z
LAST-MODIFIED:20210114T045925Z
UID:1580-1611664200-1611673200@bistromanly.com.au
SUMMARY:Australia Day Seafood Lunch
DESCRIPTION:Celebrate Australia Day overlooking Manly Beach!Enjoy a shared seafood platter for two plus complimentary glass of Sparkling or Furphy on arrival \n\n$65 per person (minimum 2 people)\n$55 Accor Plus\n12.30pm – 15.00pm\n\nBook online\, for more information\, call our Bistro Manly on 61 (02) 8966 7442 \nBOOK NOW
URL:https://bistromanly.com.au/event/australia-day-seafood-lunch/
LOCATION:Bistro Manly\, 55 North Steyne\, Manly\, NSW\, 2095
CATEGORIES:Event
ATTACH;FMTTYPE=image/jpeg:https://bistromanly.com.au/wp-content/uploads/2019/11/Bistro-Manly_Event_Graphic-6B_1500x1000px.jpg
END:VEVENT
END:VCALENDAR