BEGIN:VCALENDAR
VERSION:2.0
PRODID:-//Bistro Manly - ECPv5.3.2.1//NONSGML v1.0//EN
CALSCALE:GREGORIAN
METHOD:PUBLISH
X-WR-CALNAME:Bistro Manly
X-ORIGINAL-URL:https://bistromanly.com.au
X-WR-CALDESC:Events for Bistro Manly
BEGIN:VTIMEZONE
TZID:Australia/Sydney
BEGIN:STANDARD
TZOFFSETFROM:+1100
TZOFFSETTO:+1000
TZNAME:AEST
DTSTART:20190406T160000
END:STANDARD
BEGIN:DAYLIGHT
TZOFFSETFROM:+1000
TZOFFSETTO:+1100
TZNAME:AEDT
DTSTART:20191005T160000
END:DAYLIGHT
END:VTIMEZONE
BEGIN:VEVENT
DTSTART;TZID=Australia/Sydney:20190901T123000
DTEND;TZID=Australia/Sydney:20190901T150000
DTSTAMP:20210227T040450
CREATED:20190823T081630Z
LAST-MODIFIED:20190826T060235Z
UID:1243-1567341000-1567350000@bistromanly.com.au
SUMMARY:Father’s Day
DESCRIPTION:Spoil Dad this Father’s day\nJoin us for a full Buffet selection with specialties just for Dad. \n\n$70 per person\nAccor Plus member $60 per person\nChildren under 14 years eat for free\n\nFor information\, call our Event Executive\, Emily on 61 (02) 8966 7171 \n  \nBOOK NOW
URL:https://bistromanly.com.au/event/fathers-day/
LOCATION:Bistro Manly\, 55 North Steyne\, Manly\, NSW\, 2095
CATEGORIES:Event,Father's Day
ATTACH;FMTTYPE=image/jpeg:https://bistromanly.com.au/wp-content/uploads/2019/08/Bistro-Manly_Gallery_19_1500x1000px.jpg
END:VEVENT
END:VCALENDAR