BEGIN:VCALENDAR
VERSION:2.0
PRODID:-//Bistro Manly - ECPv5.3.2.1//NONSGML v1.0//EN
CALSCALE:GREGORIAN
METHOD:PUBLISH
X-WR-CALNAME:Bistro Manly
X-ORIGINAL-URL:https://bistromanly.com.au
X-WR-CALDESC:Events for Bistro Manly
BEGIN:VTIMEZONE
TZID:Australia/Sydney
BEGIN:STANDARD
TZOFFSETFROM:+1100
TZOFFSETTO:+1000
TZNAME:AEST
DTSTART:20200404T160000
END:STANDARD
BEGIN:DAYLIGHT
TZOFFSETFROM:+1000
TZOFFSETTO:+1100
TZNAME:AEDT
DTSTART:20201003T160000
END:DAYLIGHT
END:VTIMEZONE
BEGIN:VEVENT
DTSTART;VALUE=DATE:20200111
DTEND;VALUE=DATE:20210101
DTSTAMP:20210227T040748
CREATED:20191209T235837Z
LAST-MODIFIED:20200623T051826Z
UID:1644-1578700800-1609459199@bistromanly.com.au
SUMMARY:Rosé All Day
DESCRIPTION:Available Friday and Saturday for lunch and dinner\nEnjoy Rosé all day for $35 per person.* \nOffer valid with any meal purchase from the lunch and dinner menu. \n*Bistro Manly practices the responsible service of alcohol\, standard RSA laws apply.
URL:https://bistromanly.com.au/event/rose-all-day/
LOCATION:Bistro Manly\, 55 North Steyne\, Manly\, NSW\, 2095
ATTACH;FMTTYPE=image/jpeg:https://bistromanly.com.au/wp-content/uploads/2019/12/Bistro-Manly_Food-Gallery_14_1500x1000px.jpg
END:VEVENT
END:VCALENDAR