BEGIN:VCALENDAR
VERSION:2.0
PRODID:-//Bistro Manly - ECPv5.3.2.1//NONSGML v1.0//EN
CALSCALE:GREGORIAN
METHOD:PUBLISH
X-WR-CALNAME:Bistro Manly
X-ORIGINAL-URL:https://bistromanly.com.au
X-WR-CALDESC:Events for Bistro Manly
BEGIN:VTIMEZONE
TZID:Australia/Sydney
BEGIN:STANDARD
TZOFFSETFROM:+1100
TZOFFSETTO:+1000
TZNAME:AEST
DTSTART:20200404T160000
END:STANDARD
BEGIN:DAYLIGHT
TZOFFSETFROM:+1000
TZOFFSETTO:+1100
TZNAME:AEDT
DTSTART:20201003T160000
END:DAYLIGHT
END:VTIMEZONE
BEGIN:VEVENT
DTSTART;VALUE=DATE:20200112
DTEND;VALUE=DATE:20210101
DTSTAMP:20210227T040830
CREATED:20190826T055512Z
LAST-MODIFIED:20200623T051843Z
UID:1280-1578787200-1609459199@bistromanly.com.au
SUMMARY:Sweet Sundays
DESCRIPTION:Every Sunday lunch and dinner\nIndulge in $10 desserts available with lunch or dinner.
URL:https://bistromanly.com.au/event/sweet-sundays/
LOCATION:Bistro Manly\, 55 North Steyne\, Manly\, NSW\, 2095
ATTACH;FMTTYPE=image/jpeg:https://bistromanly.com.au/wp-content/uploads/2019/08/Bistro-Manly_Food-Gallery_12_1500x1000px.jpg
END:VEVENT
END:VCALENDAR